BEGIN:VCALENDAR
VERSION:2.0
PRODID:-//HSW Funk - ECPv6.15.20//NONSGML v1.0//EN
CALSCALE:GREGORIAN
METHOD:PUBLISH
X-WR-CALNAME:HSW Funk
X-ORIGINAL-URL:https://www.hswfunk.de
X-WR-CALDESC:Veranstaltungen im HSW Funk
REFRESH-INTERVAL;VALUE=DURATION:PT1H
X-Robots-Tag:noindex
X-PUBLISHED-TTL:PT1H
BEGIN:VTIMEZONE
TZID:Europe/Berlin
BEGIN:DAYLIGHT
TZOFFSETFROM:+0100
TZOFFSETTO:+0200
TZNAME:CEST
DTSTART:20230326T010000
END:DAYLIGHT
BEGIN:STANDARD
TZOFFSETFROM:+0200
TZOFFSETTO:+0100
TZNAME:CET
DTSTART:20231029T010000
END:STANDARD
BEGIN:DAYLIGHT
TZOFFSETFROM:+0100
TZOFFSETTO:+0200
TZNAME:CEST
DTSTART:20240331T010000
END:DAYLIGHT
BEGIN:STANDARD
TZOFFSETFROM:+0200
TZOFFSETTO:+0100
TZNAME:CET
DTSTART:20241027T010000
END:STANDARD
BEGIN:DAYLIGHT
TZOFFSETFROM:+0100
TZOFFSETTO:+0200
TZNAME:CEST
DTSTART:20250330T010000
END:DAYLIGHT
BEGIN:STANDARD
TZOFFSETFROM:+0200
TZOFFSETTO:+0100
TZNAME:CET
DTSTART:20251026T010000
END:STANDARD
END:VTIMEZONE
BEGIN:VEVENT
DTSTART;TZID=Europe/Berlin:20241214T163000
DTEND;TZID=Europe/Berlin:20241214T213000
DTSTAMP:20260424T232131
CREATED:20241201T111920Z
LAST-MODIFIED:20241201T111920Z
UID:21727-1734193800-1734211800@www.hswfunk.de
SUMMARY:Vorweihnachtlicher Abendspaziergang
DESCRIPTION:
URL:https://www.hswfunk.de/event/vorweihnachtlicher-abendspaziergang-2/
ATTACH;FMTTYPE=image/png:https://www.hswfunk.de/wp-content/uploads/sites/368/2024/11/Abendspaziergang-16-9-2024-1.png
END:VEVENT
END:VCALENDAR