BEGIN:VCALENDAR
VERSION:2.0
PRODID:-//HSW Funk - ECPv6.15.20//NONSGML v1.0//EN
CALSCALE:GREGORIAN
METHOD:PUBLISH
X-ORIGINAL-URL:https://www.hswfunk.de
X-WR-CALDESC:Veranstaltungen im HSW Funk
REFRESH-INTERVAL;VALUE=DURATION:PT1H
X-Robots-Tag:noindex
X-PUBLISHED-TTL:PT1H
BEGIN:VTIMEZONE
TZID:Europe/Berlin
BEGIN:DAYLIGHT
TZOFFSETFROM:+0100
TZOFFSETTO:+0200
TZNAME:CEST
DTSTART:20240331T010000
END:DAYLIGHT
BEGIN:STANDARD
TZOFFSETFROM:+0200
TZOFFSETTO:+0100
TZNAME:CET
DTSTART:20241027T010000
END:STANDARD
BEGIN:DAYLIGHT
TZOFFSETFROM:+0100
TZOFFSETTO:+0200
TZNAME:CEST
DTSTART:20250330T010000
END:DAYLIGHT
BEGIN:STANDARD
TZOFFSETFROM:+0200
TZOFFSETTO:+0100
TZNAME:CET
DTSTART:20251026T010000
END:STANDARD
BEGIN:DAYLIGHT
TZOFFSETFROM:+0100
TZOFFSETTO:+0200
TZNAME:CEST
DTSTART:20260329T010000
END:DAYLIGHT
BEGIN:STANDARD
TZOFFSETFROM:+0200
TZOFFSETTO:+0100
TZNAME:CET
DTSTART:20261025T010000
END:STANDARD
END:VTIMEZONE
BEGIN:VEVENT
DTSTART;TZID=Europe/Berlin:20251028T054500
DTEND;TZID=Europe/Berlin:20251028T100000
DTSTAMP:20260424T055628
CREATED:20250929T155544Z
LAST-MODIFIED:20250929T155544Z
UID:22746-1761630300-1761645600@www.hswfunk.de
SUMMARY:Zum Sonnenaufgang aufs Herzogenhorn
DESCRIPTION:Die Wanderung findet nur bei aussichtsreicher Witterung statt. \nVom Start geht es auf schmalem Pfad zur Grafenmatt hinauf. Am Leistungszentrum vorbei über die Glockenführe steigen wir auf den Gipfel (1415m). \nBei guter Sicht haben wir einen herrlichen Blick auf Schwarzwald\, Hotzenwald\, Hegau und die Schweizer Alpen. Auf dem Rückweg kehren wir im Leistungszentrum zum Frühstück ein (Büffet 15€) \nWegstrecke ca. 7\,5 km\, ca. 300 Hm \nAnmeldung bis 26.10.25 bei Wanderführer Albert Janku Tel.0174-1007 519 oder albert.janku@gmx.de
URL:https://www.hswfunk.de/event/zum-sonnenaufgang-aufs-herzogenhorn/
LOCATION:August-Euler Platz\, 79868 Feldberg\, August-Euler-Platz\, Feldberg\, Baden-Württemberg\, 79868\, Deutschland
ATTACH;FMTTYPE=image/jpeg:https://www.hswfunk.de/wp-content/uploads/sites/368/2025/07/Wanderschuhe-scaled.jpg
END:VEVENT
END:VCALENDAR