BEGIN:VCALENDAR
VERSION:2.0
PRODID:-//HSW Funk - ECPv6.15.20//NONSGML v1.0//EN
CALSCALE:GREGORIAN
METHOD:PUBLISH
X-WR-CALNAME:HSW Funk
X-ORIGINAL-URL:https://www.hswfunk.de
X-WR-CALDESC:Veranstaltungen im HSW Funk
REFRESH-INTERVAL;VALUE=DURATION:PT1H
X-Robots-Tag:noindex
X-PUBLISHED-TTL:PT1H
BEGIN:VTIMEZONE
TZID:Europe/Berlin
BEGIN:DAYLIGHT
TZOFFSETFROM:+0100
TZOFFSETTO:+0200
TZNAME:CEST
DTSTART:20250330T010000
END:DAYLIGHT
BEGIN:STANDARD
TZOFFSETFROM:+0200
TZOFFSETTO:+0100
TZNAME:CET
DTSTART:20251026T010000
END:STANDARD
BEGIN:DAYLIGHT
TZOFFSETFROM:+0100
TZOFFSETTO:+0200
TZNAME:CEST
DTSTART:20260329T010000
END:DAYLIGHT
BEGIN:STANDARD
TZOFFSETFROM:+0200
TZOFFSETTO:+0100
TZNAME:CET
DTSTART:20261025T010000
END:STANDARD
BEGIN:DAYLIGHT
TZOFFSETFROM:+0100
TZOFFSETTO:+0200
TZNAME:CEST
DTSTART:20270328T010000
END:DAYLIGHT
BEGIN:STANDARD
TZOFFSETFROM:+0200
TZOFFSETTO:+0100
TZNAME:CET
DTSTART:20271031T010000
END:STANDARD
END:VTIMEZONE
BEGIN:VEVENT
DTSTART;TZID=Europe/Berlin:20260117T100000
DTEND;TZID=Europe/Berlin:20260117T120000
DTSTAMP:20260424T113417
CREATED:20260113T181114Z
LAST-MODIFIED:20260113T075628Z
UID:23010-1768644000-1768651200@www.hswfunk.de
SUMMARY:Sichert euch eure Plätze: Kartenvorverkauf für den Gluggere Obed!
DESCRIPTION:Diesen Samstag öffnen wir die Türen für den Vorverkauf. Seid dabei\, wenn am 10. Februar die Feldberghalle wieder fest in Frauenhand ist! \nLiebe Närrinnen\, liebe Freundinnen der Fasnet\, \ndie Vorbereitungen laufen auf Hochtouren\, die Kostüme werden entstaubt und die Vorfreude steigt: Am Dienstag\, den 10. Februar 2026\, laden wir euch wieder zum legendären Gluggere Obed ein! \nWie heißt es so schön? Vorfreude ist die schönste Freude – aber sichere Plätze sind noch besser! Um bei diesem Highlight der Weiberfasnet dabei zu sein\, solltet ihr euch den kommenden Samstag rot im Kalender markieren. Da unsere Sitzplätze erfahrungsgemäß sehr begehrt sind\, möchten wir alle feierfreudigen Damen herzlich an unseren einzigen Vorverkaufstermin erinnern: \nVorverkauf: Samstag\, 17. Januar 2026 – Uhrzeit: 10:00 bis 12:00 Uhr – Ort: Foyer der Feldberghalle\nDie Eintrittskarten kosten je nach Kategorie 10 € oder 13 € – die Sitzplatzreservierung ist dabei natürlich inklusive! \n  \nWas euch am Gluggere Obed erwartet:\nWir haben ein Programm zusammengestellt\, das eure Lachmuskeln und Tanzbeine gleichermaßen fordern wird: \n\nProgramm & Stimmung: Los geht es pünktlich um 20:11 Uhr. Freut euch auf Sketche\, Tänze und jede Menge Gluggere-Power. Für den perfekten Sound sorgt in diesem Jahr Thoma Eventservice.\nKostüm-Contest: Nach dem großen Erfolg im letzten Jahr findet wieder unser „Gluggere Fashion Contest“ statt. Es lohnt sich also\, beim Kostüm kreativ zu werden!\nParty pur: Unser DJ Ali legt Partyhits für alle Generationen auf – von den Klassikern bis zu den aktuellen Charts ist alles dabei.\nBewirtung: Damit niemand durstig oder hungrig bleibt\, sorgen bereits ab 19:00 Uhr (Einlass & Musikbeginn) die Damen der TK Altglashütten für eine erstklassige Bewirtung.\n\nLasst uns gemeinsam dafür sorgen\, dass die Halle auch 2026 wieder bebt. \nMit einem dreifach vorfreudigen Piep-Piep-Piep! \nEure Gluggere Wiieber Feldberg e.V. \nGluggere Plakat 2026 (3)
URL:https://www.hswfunk.de/event/sichert-euch-eure-plaetze-kartenvorverkauf-fuer-den-gluggere-obed/
LOCATION:[Amtlicher Beitrag] Feldberghalle\, Bärentalerstr. 30\, Feldberg-Altglashütten\, 79868
CATEGORIES:Konzert,Veranstaltung,Vereine
ATTACH;FMTTYPE=image/jpeg:https://www.hswfunk.de/wp-content/uploads/sites/368/2026/01/nicht-lang-gackern-e1768290078917.jpg
ORGANIZER;CN="Gluggere Wiieber Feldberg e.V.":MAILTO:Britta-Tummescheit@web.de
END:VEVENT
END:VCALENDAR