BEGIN:VCALENDAR
VERSION:2.0
PRODID:-//HSW Funk - ECPv6.15.20//NONSGML v1.0//EN
CALSCALE:GREGORIAN
METHOD:PUBLISH
X-ORIGINAL-URL:https://www.hswfunk.de
X-WR-CALDESC:Veranstaltungen im HSW Funk
REFRESH-INTERVAL;VALUE=DURATION:PT1H
X-Robots-Tag:noindex
X-PUBLISHED-TTL:PT1H
BEGIN:VTIMEZONE
TZID:Europe/Berlin
BEGIN:DAYLIGHT
TZOFFSETFROM:+0100
TZOFFSETTO:+0200
TZNAME:CEST
DTSTART:20230326T010000
END:DAYLIGHT
BEGIN:STANDARD
TZOFFSETFROM:+0200
TZOFFSETTO:+0100
TZNAME:CET
DTSTART:20231029T010000
END:STANDARD
BEGIN:DAYLIGHT
TZOFFSETFROM:+0100
TZOFFSETTO:+0200
TZNAME:CEST
DTSTART:20240331T010000
END:DAYLIGHT
BEGIN:STANDARD
TZOFFSETFROM:+0200
TZOFFSETTO:+0100
TZNAME:CET
DTSTART:20241027T010000
END:STANDARD
BEGIN:DAYLIGHT
TZOFFSETFROM:+0100
TZOFFSETTO:+0200
TZNAME:CEST
DTSTART:20250330T010000
END:DAYLIGHT
BEGIN:STANDARD
TZOFFSETFROM:+0200
TZOFFSETTO:+0100
TZNAME:CET
DTSTART:20251026T010000
END:STANDARD
END:VTIMEZONE
BEGIN:VEVENT
DTSTART;TZID=Europe/Berlin:20240616T113000
DTEND;TZID=Europe/Berlin:20240616T140000
DTSTAMP:20260421T220137
CREATED:20240604T160032Z
LAST-MODIFIED:20240604T122919Z
UID:21011-1718537400-1718546400@www.hswfunk.de
SUMMARY:Kunst am Bach - Herzliche Einladung zur Eröffnung
DESCRIPTION:Skulpturen am Erich-Fink-Weg in Falkau\n2024/525 – Christel A. Steier (christel-andrea-steier.de)\nHerzliche Einladung zur Eröffnung am Sonntag\, den 16.06.2024 \nTreffpunkt um 11:30 Uhr am Bahnhof Altglashütten \nSektempfang um 12:15 am Kiosk / Minigolf Falkau \n\nKunst am Bach – Eine jährlich wechselnde Ausstellung der Gemeinde Feldberg
URL:https://www.hswfunk.de/event/kunst-am-bach-herzliche-einladung-zur-eroeffnung/
LOCATION:[Amtlicher Beitrag] Bahnhof Altlashütten\, Falkauerstr. 18\, Feldberg-Altglashütten\, 79868\, Deutschland
ATTACH;FMTTYPE=image/png:https://www.hswfunk.de/wp-content/uploads/sites/368/2024/06/Header-Kunst-am-Bach-2024.png
ORGANIZER;CN="Gemeinde Feldberg":MAILTO:gemeinde@feldberg.org
END:VEVENT
END:VCALENDAR