BEGIN:VCALENDAR
VERSION:2.0
PRODID:-//HSW Funk - ECPv6.15.20//NONSGML v1.0//EN
CALSCALE:GREGORIAN
METHOD:PUBLISH
X-WR-CALNAME:HSW Funk
X-ORIGINAL-URL:https://www.hswfunk.de
X-WR-CALDESC:Veranstaltungen im HSW Funk
REFRESH-INTERVAL;VALUE=DURATION:PT1H
X-Robots-Tag:noindex
X-PUBLISHED-TTL:PT1H
BEGIN:VTIMEZONE
TZID:Europe/Berlin
BEGIN:DAYLIGHT
TZOFFSETFROM:+0100
TZOFFSETTO:+0200
TZNAME:CEST
DTSTART:20230326T010000
END:DAYLIGHT
BEGIN:STANDARD
TZOFFSETFROM:+0200
TZOFFSETTO:+0100
TZNAME:CET
DTSTART:20231029T010000
END:STANDARD
BEGIN:DAYLIGHT
TZOFFSETFROM:+0100
TZOFFSETTO:+0200
TZNAME:CEST
DTSTART:20240331T010000
END:DAYLIGHT
BEGIN:STANDARD
TZOFFSETFROM:+0200
TZOFFSETTO:+0100
TZNAME:CET
DTSTART:20241027T010000
END:STANDARD
BEGIN:DAYLIGHT
TZOFFSETFROM:+0100
TZOFFSETTO:+0200
TZNAME:CEST
DTSTART:20250330T010000
END:DAYLIGHT
BEGIN:STANDARD
TZOFFSETFROM:+0200
TZOFFSETTO:+0100
TZNAME:CET
DTSTART:20251026T010000
END:STANDARD
END:VTIMEZONE
BEGIN:VEVENT
DTSTART;TZID=Europe/Berlin:20241021T100000
DTEND;TZID=Europe/Berlin:20241021T200000
DTSTAMP:20260421T150857
CREATED:20240912T060015Z
LAST-MODIFIED:20240912T060015Z
UID:21439-1729504800-1729540800@www.hswfunk.de
SUMMARY:E-Bike Tour/ Wanderung nach Bräunlingen
DESCRIPTION:Montag\, 21.Oktober 2024 \n„Kilbimendigsfahrt“ + „Wanderung“ nach Bräunlingen. Halbtagestour mit dem E-Bike auf die Baar hinaus. \nRadtour: \nFahrt zur ursprünglich und echt traditionellen Kilbi (Kirchweihfest) mit Umzug\, Musik\, Auftritten\, Markt und vielfältigem Angebot. Die Tour führt über Lenzkirch\, Rötenbach\, Dittishausen und den Kirnbergsee in die Zähringerstadt Bräunlingen. \n Treffpunkt: 10 Uhr Bahnhof Altglashütten\, Rückkehrmöglichkeit mit der Bahn. \nInfo/Anmeldung bis Vortag um 18 Uhr bei Bernhard Andris\, Tel. 07676-226. \n Parallel dazu: \nKilbi Wanderung auf dem Bierpfad in Bräunlingen  \nAm Schluss treffen wir die Radgruppe in Bräunlingen auf dem traditionellen Kilbimarkt. \nStrecke: 6.5 Kilometer \nTreffpunkt: 10 Uhr Kurhaus Lenzkirch Fahrgemeinschaften oder ÖPNV \nWanderführer Reinhard Rieger Tel. 0162 88 24 661 \nvom Schwarzwaldverein Lenzkirch
URL:https://www.hswfunk.de/event/e-bike-tour-wanderung-nach-braeunlingen/
LOCATION:[Amtlicher Beitrag] Bahnhof Altlashütten\, Falkauerstr. 18\, Feldberg-Altglashütten\, 79868\, Deutschland
ATTACH;FMTTYPE=image/jpeg:https://www.hswfunk.de/wp-content/uploads/sites/368/2024/09/Logo-16_9.jpeg
END:VEVENT
END:VCALENDAR